BEGIN:VCALENDAR
VERSION:2.0
PRODID:-//Magasin - ECPv6.15.20//NONSGML v1.0//EN
CALSCALE:GREGORIAN
METHOD:PUBLISH
X-ORIGINAL-URL:https://garecentrale.be/wp/en
X-WR-CALDESC:Events for Magasin
REFRESH-INTERVAL;VALUE=DURATION:PT1H
X-Robots-Tag:noindex
X-PUBLISHED-TTL:PT1H
BEGIN:VTIMEZONE
TZID:Europe/Paris
BEGIN:DAYLIGHT
TZOFFSETFROM:+0100
TZOFFSETTO:+0200
TZNAME:CEST
DTSTART:20230326T010000
END:DAYLIGHT
BEGIN:STANDARD
TZOFFSETFROM:+0200
TZOFFSETTO:+0100
TZNAME:CET
DTSTART:20231029T010000
END:STANDARD
BEGIN:DAYLIGHT
TZOFFSETFROM:+0100
TZOFFSETTO:+0200
TZNAME:CEST
DTSTART:20240331T010000
END:DAYLIGHT
BEGIN:STANDARD
TZOFFSETFROM:+0200
TZOFFSETTO:+0100
TZNAME:CET
DTSTART:20241027T010000
END:STANDARD
BEGIN:DAYLIGHT
TZOFFSETFROM:+0100
TZOFFSETTO:+0200
TZNAME:CEST
DTSTART:20250330T010000
END:DAYLIGHT
BEGIN:STANDARD
TZOFFSETFROM:+0200
TZOFFSETTO:+0100
TZNAME:CET
DTSTART:20251026T010000
END:STANDARD
END:VTIMEZONE
BEGIN:VEVENT
DTSTART;TZID=Europe/Paris:20240616T100000
DTEND;TZID=Europe/Paris:20240616T100000
DTSTAMP:20260421T162303
CREATED:20240116T102608Z
LAST-MODIFIED:20240409T135742Z
UID:3947-1718532000-1718532000@garecentrale.be
SUMMARY:[:fr]Baby Macbeth[:en]Baby MacBeth[:]
DESCRIPTION:
URL:https://garecentrale.be/wp/en/spectacle/baby-macbeth-51-3/
LOCATION:La Seine Musicale\, Île Seguin\, Boulogne-Billancourt\, 92100\, France
CATEGORIES:Baby MacBeth
END:VEVENT
BEGIN:VEVENT
DTSTART;TZID=Europe/Paris:20240616T113000
DTEND;TZID=Europe/Paris:20240616T113000
DTSTAMP:20260421T162303
CREATED:20240409T135806Z
LAST-MODIFIED:20240409T135806Z
UID:4178-1718537400-1718537400@garecentrale.be
SUMMARY:[:fr]Baby Macbeth[:en]Baby MacBeth[:]
DESCRIPTION:
URL:https://garecentrale.be/wp/en/spectacle/baby-macbeth-51-2-3/
LOCATION:La Seine Musicale\, Île Seguin\, Boulogne-Billancourt\, 92100\, France
CATEGORIES:Baby MacBeth
END:VEVENT
BEGIN:VEVENT
DTSTART;TZID=Europe/Paris:20240616T160000
DTEND;TZID=Europe/Paris:20240616T160000
DTSTAMP:20260421T162303
CREATED:20240321T125424Z
LAST-MODIFIED:20240409T135840Z
UID:4179-1718553600-1718553600@garecentrale.be
SUMMARY:[:fr]Baby Macbeth[:en]Baby MacBeth[:]
DESCRIPTION:
URL:https://garecentrale.be/wp/en/spectacle/baby-macbeth-51-2-2/
LOCATION:La Seine Musicale\, Île Seguin\, Boulogne-Billancourt\, 92100\, France
CATEGORIES:Baby MacBeth
END:VEVENT
END:VCALENDAR