BEGIN:VCALENDAR
VERSION:2.0
PRODID:-//Magasin - ECPv6.15.20//NONSGML v1.0//EN
CALSCALE:GREGORIAN
METHOD:PUBLISH
X-WR-CALNAME:Magasin
X-ORIGINAL-URL:https://garecentrale.be/wp/en
X-WR-CALDESC:Events for Magasin
REFRESH-INTERVAL;VALUE=DURATION:PT1H
X-Robots-Tag:noindex
X-PUBLISHED-TTL:PT1H
BEGIN:VTIMEZONE
TZID:Europe/Paris
BEGIN:DAYLIGHT
TZOFFSETFROM:+0100
TZOFFSETTO:+0200
TZNAME:CEST
DTSTART:20210328T010000
END:DAYLIGHT
BEGIN:STANDARD
TZOFFSETFROM:+0200
TZOFFSETTO:+0100
TZNAME:CET
DTSTART:20211031T010000
END:STANDARD
BEGIN:DAYLIGHT
TZOFFSETFROM:+0100
TZOFFSETTO:+0200
TZNAME:CEST
DTSTART:20220327T010000
END:DAYLIGHT
BEGIN:STANDARD
TZOFFSETFROM:+0200
TZOFFSETTO:+0100
TZNAME:CET
DTSTART:20221030T010000
END:STANDARD
BEGIN:DAYLIGHT
TZOFFSETFROM:+0100
TZOFFSETTO:+0200
TZNAME:CEST
DTSTART:20230326T010000
END:DAYLIGHT
BEGIN:STANDARD
TZOFFSETFROM:+0200
TZOFFSETTO:+0100
TZNAME:CET
DTSTART:20231029T010000
END:STANDARD
END:VTIMEZONE
BEGIN:VEVENT
DTSTART;VALUE=DATE:20220409
DTEND;VALUE=DATE:20220410
DTSTAMP:20260423T084534
CREATED:20220120T133542Z
LAST-MODIFIED:20220406T090005Z
UID:3069-1649462400-1649548799@garecentrale.be
SUMMARY:Baby MacBeth
DESCRIPTION:at 10 a.m\,  11:30 a.m  &  3:15 p.m
URL:https://garecentrale.be/wp/en/spectacle/baby-macbeth-42/
LOCATION:Théatre Buissonnier\, 2 rue Saint-Anne\, Nogent-le-Rotrou\, 28400\, France
CATEGORIES:All shows,Baby MacBeth
END:VEVENT
END:VCALENDAR