BEGIN:VCALENDAR
VERSION:2.0
PRODID:-//Magasin - ECPv6.15.20//NONSGML v1.0//EN
CALSCALE:GREGORIAN
METHOD:PUBLISH
X-WR-CALNAME:Magasin
X-ORIGINAL-URL:https://garecentrale.be/wp/en
X-WR-CALDESC:Events for Magasin
REFRESH-INTERVAL;VALUE=DURATION:PT1H
X-Robots-Tag:noindex
X-PUBLISHED-TTL:PT1H
BEGIN:VTIMEZONE
TZID:Europe/Paris
BEGIN:DAYLIGHT
TZOFFSETFROM:+0100
TZOFFSETTO:+0200
TZNAME:CEST
DTSTART:20220327T010000
END:DAYLIGHT
BEGIN:STANDARD
TZOFFSETFROM:+0200
TZOFFSETTO:+0100
TZNAME:CET
DTSTART:20221030T010000
END:STANDARD
BEGIN:DAYLIGHT
TZOFFSETFROM:+0100
TZOFFSETTO:+0200
TZNAME:CEST
DTSTART:20230326T010000
END:DAYLIGHT
BEGIN:STANDARD
TZOFFSETFROM:+0200
TZOFFSETTO:+0100
TZNAME:CET
DTSTART:20231029T010000
END:STANDARD
BEGIN:DAYLIGHT
TZOFFSETFROM:+0100
TZOFFSETTO:+0200
TZNAME:CEST
DTSTART:20240331T010000
END:DAYLIGHT
BEGIN:STANDARD
TZOFFSETFROM:+0200
TZOFFSETTO:+0100
TZNAME:CET
DTSTART:20241027T010000
END:STANDARD
END:VTIMEZONE
BEGIN:VEVENT
DTSTART;VALUE=DATE:20230110
DTEND;VALUE=DATE:20230120
DTSTAMP:20260422T183736
CREATED:20220323T144559Z
LAST-MODIFIED:20221117T120708Z
UID:3160-1673308800-1674172799@garecentrale.be
SUMMARY:[:fr]Il n'y a rien dans ma vie qui montre que je suis moche intérieurement[:en]There is nothing in my life that shows I am ugly on the inside[:]
DESCRIPTION:Tuesday 10 January at 8 p.m\nWednesday 11 at 8 p.m\nThursday 12 at 8 p.m\nFriday 13 at 8 p.m\nSaturday 14 at 6 p.m\nSunday 15 at 5 p.m\nTuesday 17 at 8 p.m\nWednesday 18 at 8 p.m\nThursday 19 at 8 p.m
URL:https://garecentrale.be/wp/en/spectacle/il-ny-a-rien-dans-ma-vie-qui-montre-que-je-suis-moche-interieurement-13/
LOCATION:Le Mouffetard – Théatre des Arts de la Marionnete\, 73\, rue Mouffetard\, Paris\, 75005\, France
CATEGORIES:Il n'y a rien...
ORGANIZER;CN="Le Mouffetard - Th%C3%A9atre des Arts de la Marionette":MAILTO:contact@lemouffetard.com
END:VEVENT
BEGIN:VEVENT
DTSTART;TZID=Europe/Paris:20230110T000000
DTEND;TZID=Europe/Paris:20230119T000000
DTSTAMP:20260422T183736
CREATED:20221201T153039Z
LAST-MODIFIED:20221201T155407Z
UID:3553-1673308800-1674086400@garecentrale.be
SUMMARY:[:fr]Sans crier gare[:en]Sans Crier Gare[:]
DESCRIPTION:
URL:https://garecentrale.be/wp/en/spectacle/sans-crier-gare/
LOCATION:Le Mouffetard – Théatre des Arts de la Marionnete\, 73\, rue Mouffetard\, Paris\, 75005\, France
CATEGORIES:Expo
ORGANIZER;CN="Le Mouffetard - Th%C3%A9atre des Arts de la Marionette":MAILTO:contact@lemouffetard.com
END:VEVENT
END:VCALENDAR