BEGIN:VCALENDAR
VERSION:2.0
PRODID:-//Magasin - ECPv6.15.20//NONSGML v1.0//EN
CALSCALE:GREGORIAN
METHOD:PUBLISH
X-ORIGINAL-URL:https://garecentrale.be/wp
X-WR-CALDESC:Évènements pour Magasin
REFRESH-INTERVAL;VALUE=DURATION:PT1H
X-Robots-Tag:noindex
X-PUBLISHED-TTL:PT1H
BEGIN:VTIMEZONE
TZID:Europe/Paris
BEGIN:DAYLIGHT
TZOFFSETFROM:+0100
TZOFFSETTO:+0200
TZNAME:CEST
DTSTART:20220327T010000
END:DAYLIGHT
BEGIN:STANDARD
TZOFFSETFROM:+0200
TZOFFSETTO:+0100
TZNAME:CET
DTSTART:20221030T010000
END:STANDARD
BEGIN:DAYLIGHT
TZOFFSETFROM:+0100
TZOFFSETTO:+0200
TZNAME:CEST
DTSTART:20230326T010000
END:DAYLIGHT
BEGIN:STANDARD
TZOFFSETFROM:+0200
TZOFFSETTO:+0100
TZNAME:CET
DTSTART:20231029T010000
END:STANDARD
BEGIN:DAYLIGHT
TZOFFSETFROM:+0100
TZOFFSETTO:+0200
TZNAME:CEST
DTSTART:20240331T010000
END:DAYLIGHT
BEGIN:STANDARD
TZOFFSETFROM:+0200
TZOFFSETTO:+0100
TZNAME:CET
DTSTART:20241027T010000
END:STANDARD
END:VTIMEZONE
BEGIN:VEVENT
DTSTART;VALUE=DATE:20230728
DTEND;VALUE=DATE:20230730
DTSTAMP:20260422T080953
CREATED:20230714T084433Z
LAST-MODIFIED:20230714T084433Z
UID:3757-1690502400-1690675199@garecentrale.be
SUMMARY:[:fr]Il n'y a rien dans ma vie qui montre que je suis moche intérieurement[:en]There is nothing in my life that shows I am ugly on the inside[:]
DESCRIPTION:Vendredi 28 juillet 2023 à 19h00\nSamedi 29 juillet 2023 à 19h00
URL:https://garecentrale.be/wp/spectacle/il-ny-a-rien-dans-ma-vie-qui-montre-que-je-suis-moche-interieurement-14-2-2/
LOCATION:Petit théâtre de l’UQAC\, Rue du vieux pont\, 4160 CP23\, Saguenay\, G7X 7V8\, Canada
CATEGORIES:Il n’y a rien dans ma vie qui montre que je suis moche intérieurement
END:VEVENT
END:VCALENDAR