BEGIN:VCALENDAR
VERSION:2.0
PRODID:-//Magasin - ECPv6.15.20//NONSGML v1.0//EN
CALSCALE:GREGORIAN
METHOD:PUBLISH
X-ORIGINAL-URL:https://garecentrale.be/wp
X-WR-CALDESC:Évènements pour Magasin
REFRESH-INTERVAL;VALUE=DURATION:PT1H
X-Robots-Tag:noindex
X-PUBLISHED-TTL:PT1H
BEGIN:VTIMEZONE
TZID:Europe/Paris
BEGIN:DAYLIGHT
TZOFFSETFROM:+0100
TZOFFSETTO:+0200
TZNAME:CEST
DTSTART:20220327T010000
END:DAYLIGHT
BEGIN:STANDARD
TZOFFSETFROM:+0200
TZOFFSETTO:+0100
TZNAME:CET
DTSTART:20221030T010000
END:STANDARD
BEGIN:DAYLIGHT
TZOFFSETFROM:+0100
TZOFFSETTO:+0200
TZNAME:CEST
DTSTART:20230326T010000
END:DAYLIGHT
BEGIN:STANDARD
TZOFFSETFROM:+0200
TZOFFSETTO:+0100
TZNAME:CET
DTSTART:20231029T010000
END:STANDARD
BEGIN:DAYLIGHT
TZOFFSETFROM:+0100
TZOFFSETTO:+0200
TZNAME:CEST
DTSTART:20240331T010000
END:DAYLIGHT
BEGIN:STANDARD
TZOFFSETFROM:+0200
TZOFFSETTO:+0100
TZNAME:CET
DTSTART:20241027T010000
END:STANDARD
END:VTIMEZONE
BEGIN:VEVENT
DTSTART;TZID=Europe/Paris:20230916T150000
DTEND;TZID=Europe/Paris:20230917T140000
DTSTAMP:20260420T141521
CREATED:20230508T152819Z
LAST-MODIFIED:20230810T084040Z
UID:3667-1694876400-1694959200@garecentrale.be
SUMMARY:[:fr]Les Lettres de mon père[:en]Letters from my father[:]
DESCRIPTION:Samedi 16 septembre 2023\, à 15h et à 18h. \nDimanche 17 septembre 2023\, à 10h et à 14h.
URL:https://garecentrale.be/wp/spectacle/les-lettres-de-mon-pere/
LOCATION:Festival Mondial des Théâtres de Marionnette\, B.P.249 - 25 rue du Petit Bois\, CHARLEVILLE-MEZIERES Cedex\, 08103 \, France
CATEGORIES:Les Lettres de mon père
END:VEVENT
END:VCALENDAR