BEGIN:VCALENDAR
VERSION:2.0
PRODID:-//Magasin - ECPv6.15.20//NONSGML v1.0//EN
CALSCALE:GREGORIAN
METHOD:PUBLISH
X-ORIGINAL-URL:https://garecentrale.be/wp/en
X-WR-CALDESC:Events for Magasin
REFRESH-INTERVAL;VALUE=DURATION:PT1H
X-Robots-Tag:noindex
X-PUBLISHED-TTL:PT1H
BEGIN:VTIMEZONE
TZID:Europe/Paris
BEGIN:DAYLIGHT
TZOFFSETFROM:+0100
TZOFFSETTO:+0200
TZNAME:CEST
DTSTART:20240331T010000
END:DAYLIGHT
BEGIN:STANDARD
TZOFFSETFROM:+0200
TZOFFSETTO:+0100
TZNAME:CET
DTSTART:20241027T010000
END:STANDARD
BEGIN:DAYLIGHT
TZOFFSETFROM:+0100
TZOFFSETTO:+0200
TZNAME:CEST
DTSTART:20250330T010000
END:DAYLIGHT
BEGIN:STANDARD
TZOFFSETFROM:+0200
TZOFFSETTO:+0100
TZNAME:CET
DTSTART:20251026T010000
END:STANDARD
BEGIN:DAYLIGHT
TZOFFSETFROM:+0100
TZOFFSETTO:+0200
TZNAME:CEST
DTSTART:20260329T010000
END:DAYLIGHT
BEGIN:STANDARD
TZOFFSETFROM:+0200
TZOFFSETTO:+0100
TZNAME:CET
DTSTART:20261025T010000
END:STANDARD
END:VTIMEZONE
BEGIN:VEVENT
DTSTART;VALUE=DATE:20250609
DTEND;VALUE=DATE:20250621
DTSTAMP:20260422T232945
CREATED:20240902T141341Z
LAST-MODIFIED:20240902T141341Z
UID:4596-1749427200-1750463999@garecentrale.be
SUMMARY:[:fr]Masterclass avec Agnès Limbos[:en]Masterclass with Agnès Limbos[:]
DESCRIPTION:Object theatre course\nObject theatre: the performer faced with the object\, a tool for writing and invention 09 to 20 June 2025 – Agnès Limbos\nLocation and details:  \nLa Nef \n20\, rue Rouget de Lisle \nF – 93500 Pantin \n+33 1 41 50 07 20 – \ncontact@la-nef.org \nDates: from 09 to 20 June 2025 \nTime: 10am-5pm \nNumber of hours: 70h \nNumber of days: 10 days \nFor more information visit the La Nef website: https://la-nef.org/transmissions/formations-2024-2025/theatre-dobjet-l-interprete-face-a-l-objet-un-outil-d-ecriture-et-d-invention \n  \n  \n\n\n 
URL:https://garecentrale.be/wp/en/spectacle/english-workshop-with-agnes-limbos-2/
LOCATION:La Nef\, 20 rue Rouget de Lisle\, Pantin\, 93 500\, France
CATEGORIES:Laboratory,All shows
END:VEVENT
BEGIN:VEVENT
DTSTART;VALUE=DATE:20250621
DTEND;VALUE=DATE:20250622
DTSTAMP:20260422T232945
CREATED:20240904T131113Z
LAST-MODIFIED:20240904T131113Z
UID:4612-1750464000-1750550399@garecentrale.be
SUMMARY:[:fr]LA VRAIE FAUSSE CONFERENCE SUR LE THEATRE D’OBJET[:en]The real fake object theater conference[:]
DESCRIPTION:As part of the “Figure it Out-festival” in Leipzig \nSince the early 80s\, object theatre\, with its way of bringing objects and actors to life\, has influenced a whole movement in puppetry and theatre in general. Today\, these eight founders of object theatre are ready to share their real false discoveries with each other\, and especially with you. \nShow for all ages\, from 12 upwards – running time: 1 hour \n 
URL:https://garecentrale.be/wp/en/spectacle/la-vraie-fausse-conference-sur-le-theatre-dobjet-2/
LOCATION:Lindenfels Westflügel\, Hähnelstr. 27\, Leipzig\, 04177\, Allemagne
CATEGORIES:All shows
END:VEVENT
BEGIN:VEVENT
DTSTART;VALUE=DATE:20250622
DTEND;VALUE=DATE:20250623
DTSTAMP:20260422T232945
CREATED:20240904T131536Z
LAST-MODIFIED:20240912T092918Z
UID:4614-1750550400-1750636799@garecentrale.be
SUMMARY:[:fr]LA VRAIE FAUSSE CONFERENCE SUR LE THEATRE D’OBJET[:en]The real fake object theater conference[:]
DESCRIPTION:Sorry\, this entry is only available in Français.
URL:https://garecentrale.be/wp/en/spectacle/la-vraie-fausse-conference-sur-le-theatre-dobjet-2-2/
LOCATION:Lindenfels Westflügel\, Hähnelstr. 27\, Leipzig\, 04177\, Allemagne
CATEGORIES:All shows
END:VEVENT
END:VCALENDAR