BEGIN:VCALENDAR
VERSION:2.0
PRODID:-//Magasin - ECPv6.15.20//NONSGML v1.0//EN
CALSCALE:GREGORIAN
METHOD:PUBLISH
X-WR-CALNAME:Magasin
X-ORIGINAL-URL:https://garecentrale.be/wp/en
X-WR-CALDESC:Events for Magasin
REFRESH-INTERVAL;VALUE=DURATION:PT1H
X-Robots-Tag:noindex
X-PUBLISHED-TTL:PT1H
BEGIN:VTIMEZONE
TZID:Europe/Paris
BEGIN:DAYLIGHT
TZOFFSETFROM:+0100
TZOFFSETTO:+0200
TZNAME:CEST
DTSTART:20200329T010000
END:DAYLIGHT
BEGIN:STANDARD
TZOFFSETFROM:+0200
TZOFFSETTO:+0100
TZNAME:CET
DTSTART:20201025T010000
END:STANDARD
BEGIN:DAYLIGHT
TZOFFSETFROM:+0100
TZOFFSETTO:+0200
TZNAME:CEST
DTSTART:20210328T010000
END:DAYLIGHT
BEGIN:STANDARD
TZOFFSETFROM:+0200
TZOFFSETTO:+0100
TZNAME:CET
DTSTART:20211031T010000
END:STANDARD
BEGIN:DAYLIGHT
TZOFFSETFROM:+0100
TZOFFSETTO:+0200
TZNAME:CEST
DTSTART:20220327T010000
END:DAYLIGHT
BEGIN:STANDARD
TZOFFSETFROM:+0200
TZOFFSETTO:+0100
TZNAME:CET
DTSTART:20221030T010000
END:STANDARD
END:VTIMEZONE
BEGIN:VEVENT
DTSTART;VALUE=DATE:20210422
DTEND;VALUE=DATE:20210424
DTSTAMP:20260424T005533
CREATED:20201215T114334Z
LAST-MODIFIED:20201215T114334Z
UID:2818-1619049600-1619222399@garecentrale.be
SUMMARY:Troubles
DESCRIPTION: 
URL:https://garecentrale.be/wp/en/spectacle/troubles-6/
LOCATION:Theater Stadelhofen\, Stadelhoferstrasse 12\, Zürich\, 8001\, Suisse
CATEGORIES:Troubles,All shows
END:VEVENT
BEGIN:VEVENT
DTSTART;TZID=Europe/Paris:20210427T200000
DTEND;TZID=Europe/Paris:20210427T210000
DTSTAMP:20260424T005533
CREATED:20201215T112155Z
LAST-MODIFIED:20210525T134416Z
UID:2810-1619553600-1619557200@garecentrale.be
SUMMARY:Ressacs
DESCRIPTION:ANNULé…\nDans le cadre du Focus Agnès Limbos \ndu 27 au 30 avril \nen partenariat avec  le Théâtre Antoine Vitez – Scène d’Ivry
URL:https://garecentrale.be/wp/en/spectacle/ressacs-44/
LOCATION:Théâtre des Quartiers d’Ivry\, 1 place Pierre Gosnat\, Ivry-sur-Seine\, 94200\, France
CATEGORIES:Ressacs,All shows
END:VEVENT
BEGIN:VEVENT
DTSTART;TZID=Europe/Paris:20210428T143000
DTEND;TZID=Europe/Paris:20210428T153000
DTSTAMP:20260424T005533
CREATED:20201215T112632Z
LAST-MODIFIED:20210525T132716Z
UID:2812-1619620200-1619623800@garecentrale.be
SUMMARY:Petites Fables
DESCRIPTION:ANNULé…
URL:https://garecentrale.be/wp/en/spectacle/petites-fables-5/
LOCATION:Théâtre Antoine Vitez Scène d’Ivry\, 1 Rue Simon Dereure\, Ivry-sur-Seine\, 94200\, France
CATEGORIES:All shows,Petites Fables
END:VEVENT
BEGIN:VEVENT
DTSTART;TZID=Europe/Paris:20210429T200000
DTEND;TZID=Europe/Paris:20210429T210000
DTSTAMP:20260424T005533
CREATED:20201215T113118Z
LAST-MODIFIED:20210525T132635Z
UID:2814-1619726400-1619730000@garecentrale.be
SUMMARY:Troubles
DESCRIPTION:ANNULé…
URL:https://garecentrale.be/wp/en/spectacle/troubles-5/
LOCATION:Théâtre Antoine Vitez Scène d’Ivry\, 1 Rue Simon Dereure\, Ivry-sur-Seine\, 94200\, France
END:VEVENT
BEGIN:VEVENT
DTSTART;VALUE=DATE:20210430
DTEND;VALUE=DATE:20210501
DTSTAMP:20260424T005533
CREATED:20201215T113447Z
LAST-MODIFIED:20210525T131548Z
UID:2816-1619740800-1619827199@garecentrale.be
SUMMARY:Baby MacBeth
DESCRIPTION:← Back Thank you for your response. ✨\n\n\n					\n						\n							\n							\n						\n						\n						\n						\n						\n							\n								\n									\n										\n										\n									\n									\n										\n										\n									\n								\n							\n						\n						\n							\n								\n									\n									\n										\n									\n									\n									\n								\n							\n						\n					\n				\n\n\n\nNom(required)\n\n \n			\n				\n					\n						\n						\n						\n					\n				\n				\n			 \n	\n\n\nE-mail(required)\n\n \n			\n				\n					\n						\n						\n						\n					\n				\n				\n			 \n	\n\n\nSite web\n\n \n			\n				\n					\n						\n						\n						\n					\n				\n				\n			 \n	\n\n\nMessage\n\n \n			\n				\n					\n						\n						\n						\n					\n				\n				\n			\n	\n	\n\n				\n					\n				\n						Submit		\n		\n		\n	 \n\n\nANNULé…
URL:https://garecentrale.be/wp/en/spectacle/baby-macbeth-38/
LOCATION:Théâtre des Quartiers d’Ivry\, 1 place Pierre Gosnat\, Ivry-sur-Seine\, 94200\, France
CATEGORIES:All shows,Baby MacBeth
END:VEVENT
END:VCALENDAR