BEGIN:VCALENDAR
VERSION:2.0
PRODID:-//Magasin - ECPv6.15.20//NONSGML v1.0//EN
CALSCALE:GREGORIAN
METHOD:PUBLISH
X-WR-CALNAME:Magasin
X-ORIGINAL-URL:https://garecentrale.be/wp/en
X-WR-CALDESC:Events for Magasin
REFRESH-INTERVAL;VALUE=DURATION:PT1H
X-Robots-Tag:noindex
X-PUBLISHED-TTL:PT1H
BEGIN:VTIMEZONE
TZID:Europe/Paris
BEGIN:DAYLIGHT
TZOFFSETFROM:+0100
TZOFFSETTO:+0200
TZNAME:CEST
DTSTART:20200329T010000
END:DAYLIGHT
BEGIN:STANDARD
TZOFFSETFROM:+0200
TZOFFSETTO:+0100
TZNAME:CET
DTSTART:20201025T010000
END:STANDARD
BEGIN:DAYLIGHT
TZOFFSETFROM:+0100
TZOFFSETTO:+0200
TZNAME:CEST
DTSTART:20210328T010000
END:DAYLIGHT
BEGIN:STANDARD
TZOFFSETFROM:+0200
TZOFFSETTO:+0100
TZNAME:CET
DTSTART:20211031T010000
END:STANDARD
BEGIN:DAYLIGHT
TZOFFSETFROM:+0100
TZOFFSETTO:+0200
TZNAME:CEST
DTSTART:20220327T010000
END:DAYLIGHT
BEGIN:STANDARD
TZOFFSETFROM:+0200
TZOFFSETTO:+0100
TZNAME:CET
DTSTART:20221030T010000
END:STANDARD
END:VTIMEZONE
BEGIN:VEVENT
DTSTART;VALUE=DATE:20211101
DTEND;VALUE=DATE:20211106
DTSTAMP:20260423T143054
CREATED:20211021T123306Z
LAST-MODIFIED:20211021T123357Z
UID:2985-1635724800-1636156799@garecentrale.be
SUMMARY:Le corps face à l'objet
DESCRIPTION:Sorry\, this entry is only available in Français.
URL:https://garecentrale.be/wp/en/spectacle/le-corps-face-a-lobjet/
LOCATION:Théâtre de la Poudrière\, Quai Ph. Godet 22\, Neuchâtel\, 2000\, Suisse
CATEGORIES:Laboratory,All shows
END:VEVENT
BEGIN:VEVENT
DTSTART;TZID=Europe/Paris:20211113T150000
DTEND;TZID=Europe/Paris:20211113T170000
DTSTAMP:20260423T143054
CREATED:20211102T073512Z
LAST-MODIFIED:20211102T073600Z
UID:3020-1636815600-1636822800@garecentrale.be
SUMMARY:Tu l'as trouvé où\, ce spectacle? - Rencontre au Mouffetard
DESCRIPTION:Sorry\, this entry is only available in Français.
URL:https://garecentrale.be/wp/en/spectacle/tu-las-trouve-ou-ce-spectacle-rencontre-au-mouffetard/
LOCATION:Le Mouffetard – Théatre des Arts de la Marionnete\, 73\, rue Mouffetard\, Paris\, 75005\, France
CATEGORIES:All shows
END:VEVENT
BEGIN:VEVENT
DTSTART;VALUE=DATE:20211115
DTEND;VALUE=DATE:20211126
DTSTAMP:20260423T143054
CREATED:20210614T121547Z
LAST-MODIFIED:20210614T121631Z
UID:2925-1636934400-1637884799@garecentrale.be
SUMMARY:Le théâtre d'objet fait son cinéma
DESCRIPTION:Sorry\, this entry is only available in Français.
URL:https://garecentrale.be/wp/en/spectacle/le-theatre-dobjet-fait-son-cinema/
LOCATION:Cie Pupella Noguès-Odradek\, 46\, chemin des Rosiers\, Quint-Fonsegrives\, 31130\, France
CATEGORIES:Laboratory,All shows
END:VEVENT
BEGIN:VEVENT
DTSTART;VALUE=DATE:20211130
DTEND;VALUE=DATE:20211205
DTSTAMP:20260423T143054
CREATED:20210609T140124Z
LAST-MODIFIED:20210609T140154Z
UID:2910-1638230400-1638662399@garecentrale.be
SUMMARY:Il n'y a rien dans ma vie qui montre que je suis moche intérieurement
DESCRIPTION: 
URL:https://garecentrale.be/wp/en/spectacle/il-ny-a-rien-dans-ma-vie-qui-montre-que-je-suis-moche-interieurement-2/
LOCATION:Théâtre Varia\, Rue du sceptre\, Bruxelles\, 1040\, Belgique
CATEGORIES:All shows,Il n'y a rien...
END:VEVENT
END:VCALENDAR