BEGIN:VCALENDAR
VERSION:2.0
PRODID:-//Magasin - ECPv6.15.20//NONSGML v1.0//EN
CALSCALE:GREGORIAN
METHOD:PUBLISH
X-ORIGINAL-URL:https://garecentrale.be/wp/en
X-WR-CALDESC:Events for Magasin
REFRESH-INTERVAL;VALUE=DURATION:PT1H
X-Robots-Tag:noindex
X-PUBLISHED-TTL:PT1H
BEGIN:VTIMEZONE
TZID:Europe/Paris
BEGIN:DAYLIGHT
TZOFFSETFROM:+0100
TZOFFSETTO:+0200
TZNAME:CEST
DTSTART:20210328T010000
END:DAYLIGHT
BEGIN:STANDARD
TZOFFSETFROM:+0200
TZOFFSETTO:+0100
TZNAME:CET
DTSTART:20211031T010000
END:STANDARD
BEGIN:DAYLIGHT
TZOFFSETFROM:+0100
TZOFFSETTO:+0200
TZNAME:CEST
DTSTART:20220327T010000
END:DAYLIGHT
BEGIN:STANDARD
TZOFFSETFROM:+0200
TZOFFSETTO:+0100
TZNAME:CET
DTSTART:20221030T010000
END:STANDARD
BEGIN:DAYLIGHT
TZOFFSETFROM:+0100
TZOFFSETTO:+0200
TZNAME:CEST
DTSTART:20230326T010000
END:DAYLIGHT
BEGIN:STANDARD
TZOFFSETFROM:+0200
TZOFFSETTO:+0100
TZNAME:CET
DTSTART:20231029T010000
END:STANDARD
END:VTIMEZONE
BEGIN:VEVENT
DTSTART;VALUE=DATE:20220111
DTEND;VALUE=DATE:20220113
DTSTAMP:20260423T114937
CREATED:20210609T140928Z
LAST-MODIFIED:20210609T140954Z
UID:2917-1641859200-1642031999@garecentrale.be
SUMMARY:Il n'y a rien dans ma vie qui montre que je suis moche intérieurement
DESCRIPTION:Sorry\, this entry is only available in Français.
URL:https://garecentrale.be/wp/en/spectacle/il-ny-a-rien-dans-ma-vie-qui-montre-que-je-suis-moche-interieurement-4/
LOCATION:Le Bateau Feu/Scène Nationale Dunkerque\, Place du Général-de-Gaulle\, Dunkerque\, 59140\, France
CATEGORIES:All shows,Il n'y a rien...
END:VEVENT
BEGIN:VEVENT
DTSTART;VALUE=DATE:20220128
DTEND;VALUE=DATE:20220130
DTSTAMP:20260423T114937
CREATED:20211025T080404Z
LAST-MODIFIED:20220120T134145Z
UID:2988-1643328000-1643500799@garecentrale.be
SUMMARY:Troubles
DESCRIPTION:Friday 28th à 7 p.m \n  \n  \nSaturday 29th at 8 p.m \n  \n 
URL:https://garecentrale.be/wp/en/spectacle/troubles-7/
LOCATION:Theater Stadelhofen\, Stadelhoferstrasse 12\, Zürich\, 8001\, Suisse
CATEGORIES:Troubles,All shows
END:VEVENT
BEGIN:VEVENT
DTSTART;VALUE=DATE:20220130
DTEND;VALUE=DATE:20220131
DTSTAMP:20260423T114937
CREATED:20220120T131212Z
LAST-MODIFIED:20220120T131212Z
UID:3066-1643500800-1643587199@garecentrale.be
SUMMARY:[:fr]Laboratoire Théâtre d'objet[:en]Workshop[:]
DESCRIPTION:information and contact: Eveline Eberhard \neveline.eberhard@theater-stadelhofen.ch
URL:https://garecentrale.be/wp/en/spectacle/laboratoire-theatre-dobjet/
LOCATION:Theater Stadelhofen\, Stadelhoferstrasse 12\, Zürich\, 8001\, Suisse
CATEGORIES:Laboratory,All shows
END:VEVENT
END:VCALENDAR