BEGIN:VCALENDAR
VERSION:2.0
PRODID:-//Magasin - ECPv6.15.20//NONSGML v1.0//EN
CALSCALE:GREGORIAN
METHOD:PUBLISH
X-WR-CALNAME:Magasin
X-ORIGINAL-URL:https://garecentrale.be/wp/en
X-WR-CALDESC:Events for Magasin
REFRESH-INTERVAL;VALUE=DURATION:PT1H
X-Robots-Tag:noindex
X-PUBLISHED-TTL:PT1H
BEGIN:VTIMEZONE
TZID:Europe/Paris
BEGIN:DAYLIGHT
TZOFFSETFROM:+0100
TZOFFSETTO:+0200
TZNAME:CEST
DTSTART:20210328T010000
END:DAYLIGHT
BEGIN:STANDARD
TZOFFSETFROM:+0200
TZOFFSETTO:+0100
TZNAME:CET
DTSTART:20211031T010000
END:STANDARD
BEGIN:DAYLIGHT
TZOFFSETFROM:+0100
TZOFFSETTO:+0200
TZNAME:CEST
DTSTART:20220327T010000
END:DAYLIGHT
BEGIN:STANDARD
TZOFFSETFROM:+0200
TZOFFSETTO:+0100
TZNAME:CET
DTSTART:20221030T010000
END:STANDARD
BEGIN:DAYLIGHT
TZOFFSETFROM:+0100
TZOFFSETTO:+0200
TZNAME:CEST
DTSTART:20230326T010000
END:DAYLIGHT
BEGIN:STANDARD
TZOFFSETFROM:+0200
TZOFFSETTO:+0100
TZNAME:CET
DTSTART:20231029T010000
END:STANDARD
END:VTIMEZONE
BEGIN:VEVENT
DTSTART;VALUE=DATE:20220430
DTEND;VALUE=DATE:20220502
DTSTAMP:20260423T053327
CREATED:20210609T141501Z
LAST-MODIFIED:20220120T141028Z
UID:2922-1651276800-1651449599@garecentrale.be
SUMMARY:Baby MacBeth
DESCRIPTION:Saturday 30 at 6 p.m\n\n\nSunday 1rst at 11 a.m & 4.30 p.m
URL:https://garecentrale.be/wp/en/spectacle/baby-macbeth-41/
LOCATION:Centre André Malraux\, 4 Rue du Milieu\, Hazebrouck\, 59524\, France
CATEGORIES:All shows,Baby MacBeth
END:VEVENT
END:VCALENDAR