BEGIN:VCALENDAR
VERSION:2.0
PRODID:-//Magasin - ECPv6.15.20//NONSGML v1.0//EN
CALSCALE:GREGORIAN
METHOD:PUBLISH
X-ORIGINAL-URL:https://garecentrale.be/wp
X-WR-CALDESC:Évènements pour Magasin
REFRESH-INTERVAL;VALUE=DURATION:PT1H
X-Robots-Tag:noindex
X-PUBLISHED-TTL:PT1H
BEGIN:VTIMEZONE
TZID:Europe/Paris
BEGIN:DAYLIGHT
TZOFFSETFROM:+0100
TZOFFSETTO:+0200
TZNAME:CEST
DTSTART:20210328T010000
END:DAYLIGHT
BEGIN:STANDARD
TZOFFSETFROM:+0200
TZOFFSETTO:+0100
TZNAME:CET
DTSTART:20211031T010000
END:STANDARD
BEGIN:DAYLIGHT
TZOFFSETFROM:+0100
TZOFFSETTO:+0200
TZNAME:CEST
DTSTART:20220327T010000
END:DAYLIGHT
BEGIN:STANDARD
TZOFFSETFROM:+0200
TZOFFSETTO:+0100
TZNAME:CET
DTSTART:20221030T010000
END:STANDARD
BEGIN:DAYLIGHT
TZOFFSETFROM:+0100
TZOFFSETTO:+0200
TZNAME:CEST
DTSTART:20230326T010000
END:DAYLIGHT
BEGIN:STANDARD
TZOFFSETFROM:+0200
TZOFFSETTO:+0100
TZNAME:CET
DTSTART:20231029T010000
END:STANDARD
END:VTIMEZONE
BEGIN:VEVENT
DTSTART;VALUE=DATE:20220630
DTEND;VALUE=DATE:20220702
DTSTAMP:20260423T024651
CREATED:20220314T161315Z
LAST-MODIFIED:20220314T161528Z
UID:3143-1656547200-1656719999@garecentrale.be
SUMMARY:[:fr]Il n'y a rien dans ma vie qui montre que je suis moche intérieurement[:en]There is nothing in my life that shows I am ugly on the inside[:]
DESCRIPTION:à 20h le 30 juin \n& à 10h le 1er juillet
URL:https://garecentrale.be/wp/spectacle/il-ny-a-rien-dans-ma-vie-qui-montre-que-je-suis-moche-interieurement-10/
LOCATION:Drak Theatre and The International Institute of Figurative Theatre\, Hradební 632\, Hradec Králové\, 500 03\, République Tchèque
CATEGORIES:Il n’y a rien dans ma vie qui montre que je suis moche intérieurement
ORGANIZER;CN="Drak Theatre and The International Institute of Figurative Theatre":MAILTO:info@draktheatre.cz
END:VEVENT
BEGIN:VEVENT
DTSTART;VALUE=DATE:20220713
DTEND;VALUE=DATE:20220714
DTSTAMP:20260423T024651
CREATED:20220323T140515Z
LAST-MODIFIED:20220323T140515Z
UID:3150-1657670400-1657756799@garecentrale.be
SUMMARY:[:fr]Il n'y a rien dans ma vie qui montre que je suis moche intérieurement[:en]There is nothing in my life that shows I am ugly on the inside[:]
DESCRIPTION:Dans le cadre du festival Idéklic
URL:https://garecentrale.be/wp/spectacle/il-ny-a-rien-dans-ma-vie-qui-montre-que-je-suis-moche-interieurement-11/
LOCATION:Ciné-théâtre Salle des fêtes\, Moirans en montagne\, 39260\, France
CATEGORIES:Il n’y a rien dans ma vie qui montre que je suis moche intérieurement
END:VEVENT
END:VCALENDAR