BEGIN:VCALENDAR
VERSION:2.0
PRODID:-//Magasin - ECPv6.15.20//NONSGML v1.0//EN
CALSCALE:GREGORIAN
METHOD:PUBLISH
X-WR-CALNAME:Magasin
X-ORIGINAL-URL:https://garecentrale.be/wp
X-WR-CALDESC:Évènements pour Magasin
REFRESH-INTERVAL;VALUE=DURATION:PT1H
X-Robots-Tag:noindex
X-PUBLISHED-TTL:PT1H
BEGIN:VTIMEZONE
TZID:Europe/Paris
BEGIN:DAYLIGHT
TZOFFSETFROM:+0100
TZOFFSETTO:+0200
TZNAME:CEST
DTSTART:20220327T010000
END:DAYLIGHT
BEGIN:STANDARD
TZOFFSETFROM:+0200
TZOFFSETTO:+0100
TZNAME:CET
DTSTART:20221030T010000
END:STANDARD
BEGIN:DAYLIGHT
TZOFFSETFROM:+0100
TZOFFSETTO:+0200
TZNAME:CEST
DTSTART:20230326T010000
END:DAYLIGHT
BEGIN:STANDARD
TZOFFSETFROM:+0200
TZOFFSETTO:+0100
TZNAME:CET
DTSTART:20231029T010000
END:STANDARD
BEGIN:DAYLIGHT
TZOFFSETFROM:+0100
TZOFFSETTO:+0200
TZNAME:CEST
DTSTART:20240331T010000
END:DAYLIGHT
BEGIN:STANDARD
TZOFFSETFROM:+0200
TZOFFSETTO:+0100
TZNAME:CET
DTSTART:20241027T010000
END:STANDARD
END:VTIMEZONE
BEGIN:VEVENT
DTSTART;VALUE=DATE:20230301
DTEND;VALUE=DATE:20230306
DTSTAMP:20260422T140049
CREATED:20220830T100705Z
LAST-MODIFIED:20221201T152654Z
UID:3471-1677628800-1678060799@garecentrale.be
SUMMARY:Baby MacBeth
DESCRIPTION:mercredi 1er mars à 10h et 15h\nSamedi 4 à 11h et 16h\nDimanche 5 à 10h et 16h
URL:https://garecentrale.be/wp/spectacle/baby-macbeth-46/
LOCATION:La Faïencerie – scène conventionnée Théâtre – Cinéma\, Allée Nelson CS 50012\, Creil Cedex\, 60104\, France
CATEGORIES:Tous les spectacles,Baby MacBeth
END:VEVENT
BEGIN:VEVENT
DTSTART;VALUE=DATE:20230323
DTEND;VALUE=DATE:20230325
DTSTAMP:20260422T140049
CREATED:20220830T101626Z
LAST-MODIFIED:20220830T101808Z
UID:3477-1679529600-1679702399@garecentrale.be
SUMMARY:[:fr]Il n'y a rien dans ma vie qui montre que je suis moche intérieurement[:en]There is nothing in my life that shows I am ugly on the inside[:]
DESCRIPTION:Dans le cadre du Festival Marto \nhttps://www.festivalmarto.com \n  \n\n 
URL:https://garecentrale.be/wp/spectacle/i/
LOCATION:Théâtre de châtillon\, 3 rue Sadi Carnot\, Châtillon\, 92320\, France
CATEGORIES:Tous les spectacles,Il n’y a rien dans ma vie qui montre que je suis moche intérieurement
END:VEVENT
END:VCALENDAR