BEGIN:VCALENDAR
VERSION:2.0
PRODID:-//Magasin - ECPv6.15.20//NONSGML v1.0//EN
CALSCALE:GREGORIAN
METHOD:PUBLISH
X-ORIGINAL-URL:https://garecentrale.be/wp/en
X-WR-CALDESC:Events for Magasin
REFRESH-INTERVAL;VALUE=DURATION:PT1H
X-Robots-Tag:noindex
X-PUBLISHED-TTL:PT1H
BEGIN:VTIMEZONE
TZID:Europe/Paris
BEGIN:DAYLIGHT
TZOFFSETFROM:+0100
TZOFFSETTO:+0200
TZNAME:CEST
DTSTART:20220327T010000
END:DAYLIGHT
BEGIN:STANDARD
TZOFFSETFROM:+0200
TZOFFSETTO:+0100
TZNAME:CET
DTSTART:20221030T010000
END:STANDARD
BEGIN:DAYLIGHT
TZOFFSETFROM:+0100
TZOFFSETTO:+0200
TZNAME:CEST
DTSTART:20230326T010000
END:DAYLIGHT
BEGIN:STANDARD
TZOFFSETFROM:+0200
TZOFFSETTO:+0100
TZNAME:CET
DTSTART:20231029T010000
END:STANDARD
BEGIN:DAYLIGHT
TZOFFSETFROM:+0100
TZOFFSETTO:+0200
TZNAME:CEST
DTSTART:20240331T010000
END:DAYLIGHT
BEGIN:STANDARD
TZOFFSETFROM:+0200
TZOFFSETTO:+0100
TZNAME:CET
DTSTART:20241027T010000
END:STANDARD
END:VTIMEZONE
BEGIN:VEVENT
DTSTART;TZID=Europe/Paris:20231202T100000
DTEND;TZID=Europe/Paris:20231202T110000
DTSTAMP:20260421T221903
CREATED:20230508T154130Z
LAST-MODIFIED:20231122T160057Z
UID:3678-1701511200-1701514800@garecentrale.be
SUMMARY:Baby Macbeth
DESCRIPTION:Saturday 2 December at 10 a.m. & 11 a.m.
URL:https://garecentrale.be/wp/en/spectacle/baby-macbeth-43-2/
LOCATION:Maison des Arts Le Beausset\, Rue Portalis\, Le Beausset\, 83330\, France
CATEGORIES:Baby MacBeth
END:VEVENT
BEGIN:VEVENT
DTSTART;TZID=Europe/Paris:20231214T100000
DTEND;TZID=Europe/Paris:20231216T110000
DTSTAMP:20260421T221903
CREATED:20230508T154815Z
LAST-MODIFIED:20230508T154815Z
UID:3685-1702548000-1702724400@garecentrale.be
SUMMARY:Baby Macbeth
DESCRIPTION:Thursday 14 December 2023\, at 10 a.m. & 3.30 p.m. \nFriday 15 December 2023\, at 10 a.m. & 3.30 p.m. \nSaturday 16 December at 11 a.m.
URL:https://garecentrale.be/wp/en/spectacle/baby-macbeth-43-2-2/
LOCATION:MA scène nationale – Pays de Montbéliard\, rue Georges Clemenceau\, 54\, Montbéliard\, 25200\, France
CATEGORIES:Baby MacBeth
END:VEVENT
BEGIN:VEVENT
DTSTART;TZID=Europe/Paris:20231221T200000
DTEND;TZID=Europe/Paris:20231221T200000
DTSTAMP:20260421T221903
CREATED:20231204T091318Z
LAST-MODIFIED:20231218T083446Z
UID:3852-1703188800-1703188800@garecentrale.be
SUMMARY:[:fr]Il n'y a rien dans ma vie qui montre que je suis moche intérieurement[:en]There is nothing in my life that shows I am ugly on the inside[:]
DESCRIPTION:On tuesday the 21st of december at 8pm                                                                                     .
URL:https://garecentrale.be/wp/en/spectacle/il-ny-a-rien-dans-ma-vie-qui-montre-que-je-suis-moche-interieurement-20/
LOCATION:Théâtre des Feuillants\, 9 Rue Condorcet\, Dijon\, 21000\, France
CATEGORIES:Il n'y a rien...
ATTACH;FMTTYPE=image/png:https://garecentrale.be/wp/wp-content/uploads/2023/12/censure.png
END:VEVENT
END:VCALENDAR